BEGIN:VCALENDAR
VERSION:2.0
PRODID:-//Kulturwerk Waldenbuch - ECPv5.14.2.1//NONSGML v1.0//EN
CALSCALE:GREGORIAN
METHOD:PUBLISH
X-WR-CALNAME:Kulturwerk Waldenbuch
X-ORIGINAL-URL:https://kulturwerkwaldenbuch.com
X-WR-CALDESC:Events for Kulturwerk Waldenbuch
REFRESH-INTERVAL;VALUE=DURATION:PT1H
X-Robots-Tag:noindex
X-PUBLISHED-TTL:PT1H
BEGIN:VTIMEZONE
TZID:Europe/Paris
BEGIN:DAYLIGHT
TZOFFSETFROM:+0100
TZOFFSETTO:+0200
TZNAME:CEST
DTSTART:20250330T010000
END:DAYLIGHT
BEGIN:STANDARD
TZOFFSETFROM:+0200
TZOFFSETTO:+0100
TZNAME:CET
DTSTART:20251026T010000
END:STANDARD
END:VTIMEZONE
BEGIN:VEVENT
DTSTART;TZID=Europe/Paris:20251204T200000
DTEND;TZID=Europe/Paris:20251204T220000
DTSTAMP:20260419T192526
CREATED:20251023T151356Z
LAST-MODIFIED:20251023T151356Z
UID:5326-1764878400-1764885600@kulturwerkwaldenbuch.com
SUMMARY:kino vor ort am 04.12.: Die leisen und die großen Töne
DESCRIPTION:Die leisen und die großen Töne \nZwei Herzen\, ein Rhythmus. Pierre Lottin und Benjamin Lavernhe \,zwei Brüder die unterschiedlicher nicht sein könnten\, finden durch ihre Liebe zur Musik zueinander und beginnen\, die Welt zu verstehen.\nEin Film\, der sowohl im Kleinen als auch im Großen\, im Privaten wie im Politischen überwältigt\, berührt und vor allem unterhält. \nWann: Do 13.11.2025 | Filmbeginn 20 Uhr | Getränke ab 19.15 Uhr | 103 min. \nWo: Forum Oskar-Schwenk-Schule | Schulstr. 2 | Waldenbuch \nUnkostenbeitrag: 4 €  \n  \nVorschau:\nMatinee am Sonntag 11.01.2026 mit lit. Einführung
URL:https://kulturwerkwaldenbuch.com/veranstaltungen/kino-vor-ort-am-04-12-die-leisen-und-die-grossen-toene/
LOCATION:FORUM | Oskar-Schwenk-Schule\, Schulstraße 2\, Waldenbuch\, 71111
CATEGORIES:kino vor ort
ATTACH;FMTTYPE=:
END:VEVENT
BEGIN:VEVENT
DTSTART;TZID=Europe/Paris:20251213T200000
DTEND;TZID=Europe/Paris:20251213T220000
DTSTAMP:20260419T192526
CREATED:20241209T140020Z
LAST-MODIFIED:20241209T140020Z
UID:5112-1765656000-1765663200@kulturwerkwaldenbuch.com
SUMMARY:Christmas Crime Stories. Ein musikalisch-literarisches Krimi Spektakel zum Fest der Liebe.
DESCRIPTION:Neue schaurig schöne Christmas Crime Stories\, präsentiert von “ Der Detektiv & das Saxophon“ alias Jo Jung\, Ruth Sabadino & Boogaloo. Ein musikalisch-literarisches Christmas Spektakel – zum totlachen komisch! Extra zum Fest der Feste haben „Der Detektiv & das Saxophon“ ein brandneues weihnachtliches Krimi Paket geschnürt  – mit vielen neuen Songs und Geschichten\, wie immer eiskalt kombiniert und mordsmäßig lustig! \nDabei werden fröhliche Lieder schon mal in Moll gesungen\, falsche Bärte entlarvt\, diverse Leichen unterm Baum hervorgekehrt und betrunkene Engel von eben diesem geschüttelt ! Es ist eben mal wieder „Mords was los unterm Tannenbaum“ ! \nFacettenreich\, hintersinnig und mitreißend gelesen wie es nur einer kann: Jo Jung! Der Schauspieler und Sprecher\, dessen markante Stimme vielen Zuhörern durch TV-und Radio bekannt ist\, jongliert mühelos mit allerlei Dialekten und lässt gestenreich die Geschichten zu wahrem Leben erstehen. \nDie Saxophonistin Ruth Sabadino und ihre kriminelle Jazzband spielen dazu einen unerhört coolen Weihnachtsgroove der sogar Knecht Ruprecht Beine macht. \nWann: 13.12.2025 | 20 Uhr | Getränke ab 19.15 Uhr \nWo: Forum Oskar Schwenk-Schule | Schulstr. 2 | Waldenbuch \nKartenvorverkauf in Waldenbuch (ab 08.11.25)\nVVK 16 € | AK 18 € | Schüler*innen/Student*innen 8 €\nSchöne Dinge Der WaldenBuchladen | Forststraße 20 l 07157/20599\nBücherei im Städtle / EineWelt-Lädle | Auf dem Graben 23 l 07157/5351393 oder\nunter info@kulturwerk-waldenbuch.de \nKarten online finden Sie hier \n 
URL:https://kulturwerkwaldenbuch.com/veranstaltungen/tatort-tannenbaum-christmas-crime-stories/
LOCATION:FORUM | Oskar-Schwenk-Schule\, Schulstraße 2\, Waldenbuch\, 71111
ATTACH;FMTTYPE=:
END:VEVENT
END:VCALENDAR