BEGIN:VCALENDAR
VERSION:2.0
PRODID:-//Kulturwerk Waldenbuch - ECPv5.14.2.1//NONSGML v1.0//EN
CALSCALE:GREGORIAN
METHOD:PUBLISH
X-WR-CALNAME:Kulturwerk Waldenbuch
X-ORIGINAL-URL:https://kulturwerkwaldenbuch.com
X-WR-CALDESC:Events for Kulturwerk Waldenbuch
REFRESH-INTERVAL;VALUE=DURATION:PT1H
X-Robots-Tag:noindex
X-PUBLISHED-TTL:PT1H
BEGIN:VTIMEZONE
TZID:Europe/Paris
BEGIN:DAYLIGHT
TZOFFSETFROM:+0100
TZOFFSETTO:+0200
TZNAME:CEST
DTSTART:20250330T010000
END:DAYLIGHT
BEGIN:STANDARD
TZOFFSETFROM:+0200
TZOFFSETTO:+0100
TZNAME:CET
DTSTART:20251026T010000
END:STANDARD
END:VTIMEZONE
BEGIN:VEVENT
DTSTART;TZID=Europe/Paris:20251113T200000
DTEND;TZID=Europe/Paris:20251113T220000
DTSTAMP:20260419T210456
CREATED:20251023T150514Z
LAST-MODIFIED:20251023T150514Z
UID:5319-1763064000-1763071200@kulturwerkwaldenbuch.com
SUMMARY:kino vor ort am 13.11.: Alter weißer Mann
DESCRIPTION:Alter weißer Mann \nHeinz (Jan Josef Liefers) weiß\, welche Worte man nicht mehr sagen darf. Er weiß auch\, dass es wichtig ist\, divers zu sprechen\, divers zu handeln\, divers zu denken… Die neue Komödie von Simon Verhoeven behandelt viele Themen rund um das heiße Eisen der ‚Woke Culture‘ Ein hochamüsanter Filmspaß\, der einer zutiefst ernst geführten Diskussion einen augenzwinkernden Spiegel vorhält.\nVerhoeven und seinem Team ist ein Film gelungen\, der seinen Finger auf die aktuellen ‚Wunden‘ unserer Gesellschaft legt und sie mit versöhnlichem Humor verhandelt. \nWann: Do 13.11.2025 | Filmbeginn 20 Uhr | Getränke ab 19.15 Uhr | 114 min. \nWo: Forum Oskar-Schwenk-Schule | Schulstr. 2 | Waldenbuch \nUnkostenbeitrag: 4 €  \n  \nVorschau:\n04.12.: Die leisen und die großen Töne
URL:https://kulturwerkwaldenbuch.com/veranstaltungen/kino-vor-ort-am-13-11-alter-weisser-mann/
LOCATION:FORUM | Oskar-Schwenk-Schule\, Schulstraße 2\, Waldenbuch\, 71111
CATEGORIES:kino vor ort
ATTACH;FMTTYPE=:
END:VEVENT
BEGIN:VEVENT
DTSTART;TZID=Europe/Paris:20251114T180000
DTEND;TZID=Europe/Paris:20251114T200000
DTSTAMP:20260419T210456
CREATED:20251023T150915Z
LAST-MODIFIED:20251023T150915Z
UID:5322-1763143200-1763150400@kulturwerkwaldenbuch.com
SUMMARY:Kamingespräche Schloss Waldenbuch: neue Ägyptische Museum am 14.11. - AUSVERKAUFT!
DESCRIPTION:Der Grabschatz Tutanchamuns aus dem „Tal der Könige“ –  die neue Ausstellung im Grand Egyptian Museum \nDas  „Grand Egyptian Museum“  in Kairo erzählt die Geschichte des Totenschatzes von Tutanchamun  neu in einem der weltweit größten Museumsprojekte. Es berichtet über Leben und Tod des Pharaos und folgt dem Entdecker des Grabes\, Howard Carter\, der vor mehr als 100 Jahren im Tal der Könige auf die Kammern und Grabschätze stieß. Tanja Zöllner berichtet  über ihre spannende  und kulturell herausfordernde Arbeit in Kairo für diese weltweit  einzigartige neue Ausstellung.\nReferentin: TANJA ZÖLLNER\, ASSOZIIERTE PARTNERIN ATELIER BRÜCKNER Stuttgart \nWann: Fr 14.11.2025 | 18 Uhr | Im Anschluß können die Gespräche gerne beim einem Gläschen Wein im Museum weitergeführt werden. \nWo: Museum der Alltagskultur – Schloss Waldenbuch | Kirchgasse 3 | Waldenbuch\nWieviel: 8 € | Auszubildende\, Studierende\, Schüler und Schülerinnen Eintritt frei \nKartenverkauf in Waldenbuch – AUSVERKAUFT!\nSchöne Dinge Der Waldenbuchladen | Forststr. 20 | 07157/20599\nBücherei im Städlte & EineWelt-Lädle | Auf dem Graben 23 | 07157/5351393 \nOnline Karten kaufen hier \noder per Mail: info@kulturwerk-waldenbuch.de 
URL:https://kulturwerkwaldenbuch.com/veranstaltungen/kamingespraeche-schloss-waldenbuch-ein-stuttgarter-atelier-gestaltet-das-neue-aegyptische-museum-in-kairo/
LOCATION:Museum der Alltagskultur – Schloss Waldenbuch\, Kirchgasse 3\, Waldenbuch\, 71111\, Deutschland
CATEGORIES:KAMINGESPRÄCHE Schloss Waldenbuch
ATTACH;FMTTYPE=:
END:VEVENT
END:VCALENDAR