BEGIN:VCALENDAR
VERSION:2.0
PRODID:-//Kulturwerk Waldenbuch - ECPv5.14.2.1//NONSGML v1.0//EN
CALSCALE:GREGORIAN
METHOD:PUBLISH
X-WR-CALNAME:Kulturwerk Waldenbuch
X-ORIGINAL-URL:https://kulturwerkwaldenbuch.com
X-WR-CALDESC:Events for Kulturwerk Waldenbuch
REFRESH-INTERVAL;VALUE=DURATION:PT1H
X-Robots-Tag:noindex
X-PUBLISHED-TTL:PT1H
BEGIN:VTIMEZONE
TZID:Europe/Paris
BEGIN:DAYLIGHT
TZOFFSETFROM:+0100
TZOFFSETTO:+0200
TZNAME:CEST
DTSTART:20250330T010000
END:DAYLIGHT
BEGIN:STANDARD
TZOFFSETFROM:+0200
TZOFFSETTO:+0100
TZNAME:CET
DTSTART:20251026T010000
END:STANDARD
END:VTIMEZONE
BEGIN:VEVENT
DTSTART;TZID=Europe/Paris:20250518T110000
DTEND;TZID=Europe/Paris:20250518T130000
DTSTAMP:20260420T064448
CREATED:20250326T175429Z
LAST-MODIFIED:20250326T175429Z
UID:5220-1747566000-1747573200@kulturwerkwaldenbuch.com
SUMMARY:Das Fioretti-Ensemble zu Gast - Matinee in Kooperation mit Konzerte St. Veit
DESCRIPTION: \n„TRAUM ODER MORGEN“ Eine musikalisch poetische Matinee – Abonnentenkonzert Das Fioretti Ensemble lädt zu einer Reise ein\, die Sie in eine weithin unbekannte Klang\, Wort und Lebenswelt entführen wird. Es möchte einen Spalt weit die Tür in diese faszinierende Welt öﬀnen und den klanglichen und poetischen Reichtum Taiwans – auch zweisprachig – vernehmbar machen.Nicht nur traditionelle taiwanesische Musik – modern arrangiert\, sondern auch zeitgenössische Kompositionen\, zum Beispiel von Jing Peng\, wird das Fioretti Ensemble dem Waldenbucher Publikum präsentieren.Übertragungen taiwanesischer Poesie ins Deutsche sind nach wie vor eine Seltenheit. Die Sprecher HungYu Dominik Wu und Erhard Michwerden u.a. Gedichte von Shang Qin und Yu Guangzhong vortragen. Freuen Sie sich auf ein musikalischpoetisches Abenteuer!\n \nFioretti Ensemble:\nAlicja Ratusinska – Flöte\nHanlin Liang – Violine\nBarbara Wojciechowska-Voss – Viola\nShihyu YuHolz – Violoncello\n \nKooperation mit Konzerte in St. Veit (Abonnentenkonzert). Infos auch unter www.konzerte-st-veit.de\nWann: So 18.05.2025 | 11 Uhr \nWo: Forum Oskar-Schwenk-Schule | Schulstr. 2 | Waldenbuch \nKartenvorverkauf in Waldenbuch\nVVK 16 € | AK 18 € | Schüler*innen/Student*innen 8 €\nSchöne Dinge Der WaldenBuchladen | Forststraße 20 l 07157/20599\nBücherei im Städtle / EineWelt-Lädle | Auf dem Graben 23 l 07157/5351393 oder\nunter info@kulturwerk-waldenbuch.de
URL:https://kulturwerkwaldenbuch.com/veranstaltungen/das-fioretti-ensemble-zu-gast-matinee-in-kooperation-mit-konzerte-st-veit/
LOCATION:FORUM | Oskar-Schwenk-Schule\, Schulstraße 2\, Waldenbuch\, 71111
CATEGORIES:Kooperationsveranstaltung,Matinee
ATTACH;FMTTYPE=:
END:VEVENT
BEGIN:VEVENT
DTSTART;TZID=Europe/Paris:20250523T180000
DTEND;TZID=Europe/Paris:20250523T200000
DTSTAMP:20260420T064448
CREATED:20250505T122626Z
LAST-MODIFIED:20250505T122626Z
UID:5241-1748023200-1748030400@kulturwerkwaldenbuch.com
SUMMARY:Kinderpsychologie live - Was Kinder brauchen mit Dr. Thomas Fuchs
DESCRIPTION:Kinderpsychologie live – Was Kinder brauchen.\nmit Dr. Thomas Fuchs | Kinder- und Jugendpsychologe\n\nWelche Mutter\, welcher Vater hatte noch nie das Gefühl\, bei der Erziehung des eigenen Kindes etwas flasch zu machen? Es sind 9\,5 Millionen Minuten bis ein Kind 18 Jahre alt ist. Es lohnt sich für Eltern\, gut zu reflektieren\, was sie in dieser entscheidenden Zeit tun. Dr. Thomas Fuchs kennt als gefragter Kinderpsychologe alle diese Sorgen und gleichzeitig was Kinder brauchen. Lassen Sie sich aus Ihrer Erwachsenenwelt entführen und lernen Sie\, die Welt wieder aus den Augen von Kindern zu sehen. Kinder sind die Saat der Zukunft und es geht um viel: Welche Welt hinterlassen wir den Kinder und vor allem welche Kinder hinterlassen wir der Welt? Freuen wir uns auf eine Edutainment-Veranstaltung\, mit einer Mischung aus Unterhaltung und Wissensvermittlung: “Kinderpsychologie live” im Waldenbucher Schloss. \nWann: Freitag 23. Mai 2025 | 18 Uhr (im Anschluss Gespräche im Museum bei einem Gläschen Wein)\nWo: Museum der Alltagskultur – Schloss Waldenbuch l Kirchgasse 3 | Waldenbuch\nWieviel: 8 € | Freier Eintritt für Schüler*innen\, Auszubildende\, Studierende \nKartenvorverkauf in Waldenbuch\nSchöne Dinge Der WaldenBuchladen | Forststraße 20 l Telefon 07157/20599\nBücherei im Städtle & EineWelt-Lädle | Auf dem Graben 23 l Telefon 07157/5351393
URL:https://kulturwerkwaldenbuch.com/veranstaltungen/kinderpsychologie-live-was-kinder-brauchen-mit-dr-thomas-fuchs/
LOCATION:Museum der Alltagskultur – Schloss Waldenbuch\, Kirchgasse 3\, Waldenbuch\, 71111\, Deutschland
CATEGORIES:KAMINGESPRÄCHE Schloss Waldenbuch
ATTACH;FMTTYPE=:
END:VEVENT
END:VCALENDAR