BEGIN:VCALENDAR
VERSION:2.0
PRODID:-//Kulturwerk Waldenbuch - ECPv5.14.2.1//NONSGML v1.0//EN
CALSCALE:GREGORIAN
METHOD:PUBLISH
X-WR-CALNAME:Kulturwerk Waldenbuch
X-ORIGINAL-URL:https://kulturwerkwaldenbuch.com
X-WR-CALDESC:Events for Kulturwerk Waldenbuch
REFRESH-INTERVAL;VALUE=DURATION:PT1H
X-Robots-Tag:noindex
X-PUBLISHED-TTL:PT1H
BEGIN:VTIMEZONE
TZID:Europe/Paris
BEGIN:DAYLIGHT
TZOFFSETFROM:+0100
TZOFFSETTO:+0200
TZNAME:CEST
DTSTART:20250330T010000
END:DAYLIGHT
BEGIN:STANDARD
TZOFFSETFROM:+0200
TZOFFSETTO:+0100
TZNAME:CET
DTSTART:20251026T010000
END:STANDARD
END:VTIMEZONE
BEGIN:VEVENT
DTSTART;TZID=Europe/Paris:20250718T180000
DTEND;TZID=Europe/Paris:20250718T200000
DTSTAMP:20260420T045358
CREATED:20250610T075554Z
LAST-MODIFIED:20250610T075554Z
UID:5247-1752861600-1752868800@kulturwerkwaldenbuch.com
SUMMARY:KAMINGESPRÄCHE schloss waldenbuch - Was nun Amerika? Was nun Deutschland?
DESCRIPTION:„Was nun\, USA? Was nun\, Deutschland? \nTrumps zweite Amtszeit und ihre Folgen für Amerika\, Deutschland\, Europa und die Welt“ \nReferent : Dr. Christoph von Marschall \n(Foto: Uwe Letzner) \nWann: Freitag 18. Juli 2025 | 18 Uhr (im Anschluss Gespräche im Museum bei einem Gläschen Wein und Butterbrezeln)\nWo: Museum der Alltagskultur – Schloss Waldenbuch l Kirchgasse 3 | Waldenbuch\nWieviel: 8 € | Freier Eintritt für Schüler*innen\, Auszubildende\, Studierende \nKarten in Waldenbuch | Vorverkauf und Abendkasse\nSchöne Dinge Der WaldenBuchladen | Forststraße 20 l Telefon 07157/20599\nBücherei im Städtle & EineWelt-Lädle | Auf dem Graben 23 l Telefon 07157/5351393
URL:https://kulturwerkwaldenbuch.com/veranstaltungen/kamingespraeche-schloss-waldenbuch-was-nun-amerika-was-nun-deutschland/
LOCATION:Museum der Alltagskultur – Schloss Waldenbuch\, Kirchgasse 3\, Waldenbuch\, 71111\, Deutschland
ATTACH;FMTTYPE=:
END:VEVENT
END:VCALENDAR