BEGIN:VCALENDAR
VERSION:2.0
PRODID:-//Kulturwerk Waldenbuch - ECPv5.14.2.1//NONSGML v1.0//EN
CALSCALE:GREGORIAN
METHOD:PUBLISH
X-WR-CALNAME:Kulturwerk Waldenbuch
X-ORIGINAL-URL:https://kulturwerkwaldenbuch.com
X-WR-CALDESC:Events for Kulturwerk Waldenbuch
REFRESH-INTERVAL;VALUE=DURATION:PT1H
X-Robots-Tag:noindex
X-PUBLISHED-TTL:PT1H
BEGIN:VTIMEZONE
TZID:Europe/Paris
BEGIN:DAYLIGHT
TZOFFSETFROM:+0100
TZOFFSETTO:+0200
TZNAME:CEST
DTSTART:20250330T010000
END:DAYLIGHT
BEGIN:STANDARD
TZOFFSETFROM:+0200
TZOFFSETTO:+0100
TZNAME:CET
DTSTART:20251026T010000
END:STANDARD
END:VTIMEZONE
BEGIN:VEVENT
DTSTART;TZID=Europe/Paris:20250330T150000
DTEND;TZID=Europe/Paris:20250330T170000
DTSTAMP:20260420T125830
CREATED:20250228T150728Z
LAST-MODIFIED:20250228T150728Z
UID:5179-1743346800-1743354000@kulturwerkwaldenbuch.com
SUMMARY:QuizTime im Museum der Alltagskultur .... Termin verschoben!
DESCRIPTION:In Gruppen von sechs Personen kann man beim Spaß-Quiz im Museum der Alltagskultur auf die spannende Jagd nach Antworten auf unsere Fragen gehen. Natürlich dürfen sich auch Freunde oder Nachbarn der Runde anschließen. Unser Quiz-Team tüftelt ein Programm aus\, das sich mit Bilderrätseln\, Fragerunden zu aktuellen Themen oder bestimmten Themenbereichen an den Strukturen des legendären Pub-Quiz orientiert. Auch die Sonderausstellung „We are family“ spielt dabei eine Rolle. Deshalb zuvor unbedingt eine Runde durch die Ausstellung drehen und genau\nhinschauen! \nWann: Sonntag\, 30. März 2025 | 15 Uhr | Dauer: ca. 2 x 45 mit einer Pause – Termin verschoben\, mehr demnächst….\nWo: Museum der Alltagskultur\, Schloss Waldenbuch\, Kirchgasse 3\, Waldenbuch\nWieviel: kostenfrei \nDie Teams: Ein Team besteht aus jeweils sechs Personen. Das Mindestalter der Teilnehmer liegt bei 12 Jahren.\nAnmeldung der Teams erforderlich bis zum 16. März 2025 unter Anne-Kathrin.Bui-Spaeth@landesmuseum-stuttgart.de
URL:https://kulturwerkwaldenbuch.com/veranstaltungen/quiztime-im-museum-der-alltagskultur-wir-sind-dabei/
LOCATION:Museum der Alltagskultur – Schloss Waldenbuch\, Kirchgasse 3\, Waldenbuch\, 71111\, Deutschland
CATEGORIES:Kulturwerk Waldenbuch
ATTACH;FMTTYPE=:
END:VEVENT
END:VCALENDAR