BEGIN:VCALENDAR
VERSION:2.0
PRODID:-//Kulturwerk Waldenbuch - ECPv5.14.2.1//NONSGML v1.0//EN
CALSCALE:GREGORIAN
METHOD:PUBLISH
X-WR-CALNAME:Kulturwerk Waldenbuch
X-ORIGINAL-URL:https://kulturwerkwaldenbuch.com
X-WR-CALDESC:Events for Kulturwerk Waldenbuch
REFRESH-INTERVAL;VALUE=DURATION:PT1H
X-Robots-Tag:noindex
X-PUBLISHED-TTL:PT1H
BEGIN:VTIMEZONE
TZID:Europe/Paris
BEGIN:DAYLIGHT
TZOFFSETFROM:+0100
TZOFFSETTO:+0200
TZNAME:CEST
DTSTART:20250330T010000
END:DAYLIGHT
BEGIN:STANDARD
TZOFFSETFROM:+0200
TZOFFSETTO:+0100
TZNAME:CET
DTSTART:20251026T010000
END:STANDARD
END:VTIMEZONE
BEGIN:VEVENT
DTSTART;TZID=Europe/Paris:20250322T200000
DTEND;TZID=Europe/Paris:20250322T220000
DTSTAMP:20260421T001929
CREATED:20241209T133619Z
LAST-MODIFIED:20241209T133619Z
UID:5098-1742673600-1742680800@kulturwerkwaldenbuch.com
SUMMARY:Rock'n Roll auf schwäbisch mit den DooWop-Mädla - AUSVERKAUFT!
DESCRIPTION:DooWop-Mädla – Rock’n’Roll auf schwäbisch – AUSVERKAUFT! \nAnette Heiter (Honey Pie und Juristenkabarett)\, Gesa Schulze-Kahleys (i-Dipfela)\,\nBabs Steinbock (Cleaning Women) und Susanne Härle machen sich auf ihrer “Kartoffelsalat-Tour” ungeniert über die Welthits der 50er und 60er Jahre her – und das auf Schwäbisch und mit Texten\, die sich endlich einmal nicht nur immer um „Liebe“ drehen. So stilecht wie die Petticoats der vier sind die maßgeschneiderten Arrangements. Man meint\, die großen amerikanischen Gesangsgruppen der 50er Jahre zu hören\, nur dass man endlich die Texte versteht – sofern man schwäbisch kann. \nWann: Sa 22.03.2025 | 20 Uhr |Getränke ab 19.15 Uhr\nWo: Forum Oskar-Schwenk-Schule | Schulstr. 2 | Waldenbuch \nKartenvorverkauf in Waldenbuch – AUSVERKAUFT!\nVVK 16 € | AK 18 € | Schüler*innen/Student*innen 8 €\nSchöne Dinge Der WaldenBuchladen | Forststraße 20 l 07157/20599\nBücherei im Städtle / EineWelt-Lädle | Auf dem Graben 23 l 07157/5351393 oder\nunter info@kulturwerk-waldenbuch.de \nKarten online gibt es hier
URL:https://kulturwerkwaldenbuch.com/veranstaltungen/rockn-roll-auf-schwaebisch-mit-den-doopwop-maedla/
LOCATION:FORUM | Oskar-Schwenk-Schule\, Schulstraße 2\, Waldenbuch\, 71111
ATTACH;FMTTYPE=:
END:VEVENT
END:VCALENDAR